BEGIN:VCALENDAR
VERSION:2.0
BEGIN:VEVENT
DTSTART;TZID=Europe/Stockholm:20260429T133000
DTEND;TZID=Europe/Stockholm:20260429T143000
DTSTAMP:20260420T113839
DESCRIPTION:En stunds gemenskap med möjlighet till fika. Kl. 14.00 Sångstund med Kapelabröderna
SEQUENCE:0
SUMMARY:ÖPPEN KYRKA
UID:9762@lawebb.se
END:VEVENT
END:VCALENDAR