BEGIN:VCALENDAR
VERSION:2.0
BEGIN:VEVENT
DTSTART;TZID=Europe/Stockholm:20260426T183000
DTEND;TZID=Europe/Stockholm:20260426T193000
DTSTAMP:20260420T113432
DESCRIPTION:Vi samlas under en timme för att be
SEQUENCE:0
SUMMARY:Bön i Storegårdskyrkan
UID:4772@lawebb.se
END:VEVENT
END:VCALENDAR