BEGIN:VCALENDAR
VERSION:2.0
BEGIN:VEVENT
DTSTART;TZID=Europe/Stockholm:20260422T133000
DTEND;TZID=Europe/Stockholm:20260422T143000
DTSTAMP:20260420T113904
DESCRIPTION:En stunds gemenskap med möjlighet till fika. Kl. 14.00 Sångstund med Åke Isacsson, Krister Hildorsson
SEQUENCE:0
SUMMARY:ÖPPEN KYRKA
UID:9626@lawebb.se
END:VEVENT
END:VCALENDAR