BEGIN:VCALENDAR
VERSION:2.0
BEGIN:VEVENT
DTSTART;TZID=Europe/Stockholm:20260419T183000
DTEND;TZID=Europe/Stockholm:20260419T193000
DTSTAMP:20260420T114120
DESCRIPTION:Vi samlas under en timme för att be
SEQUENCE:0
SUMMARY:Bön i Storegårdskyrkan
UID:5233@lawebb.se
END:VEVENT
END:VCALENDAR