BEGIN:VCALENDAR
VERSION:2.0
BEGIN:VEVENT
DTSTART;TZID=Europe/Stockholm:20260415T133000
DTEND;TZID=Europe/Stockholm:20260415T143000
DTSTAMP:20260420T113751
DESCRIPTION:En stunds gemenskap med möjlighet till fika. Kl. 14.00 Sångstund med Jakob Josefsson
SEQUENCE:0
SUMMARY:ÖPPEN KYRKA
UID:9985@lawebb.se
END:VEVENT
END:VCALENDAR