BEGIN:VCALENDAR
VERSION:2.0
BEGIN:VEVENT
DTSTART;TZID=Europe/Stockholm:20260408T133000
DTEND;TZID=Europe/Stockholm:20260408T143000
DTSTAMP:20260420T114131
DESCRIPTION:En stunds gemenskap med möjlighet till fika. Kl. 14.00 Sångstund Ulf Lundberg och Cittragäng
SEQUENCE:0
SUMMARY:ÖPPEN KYRKA
UID:2885@lawebb.se
END:VEVENT
END:VCALENDAR