BEGIN:VCALENDAR
VERSION:2.0
BEGIN:VEVENT
DTSTART;TZID=Europe/Stockholm:20260401T133000
DTEND;TZID=Europe/Stockholm:20260401T143000
DTSTAMP:20260420T114121
DESCRIPTION:En stunds gemenskap med möjlighet till fika. Kl. 14.00 Sångstund med Nils-Gunnar Karlsson
SEQUENCE:0
SUMMARY:ÖPPEN KYRKA
UID:6396@lawebb.se
END:VEVENT
END:VCALENDAR